BEGIN:VCALENDAR
PRODID:fdphamburg.de
VERSION:2.0
CALSCALE:GREGORIAN
BEGIN:VEVENT
UID:168a13b2386777b09439d771721c941b
DTSTAMP:20260423T175455Z
SUMMARY:Kundgebung OlympJA
DTSTART:20260424T140000Z
DTEND;TZID=Europe/Berlin:20260424T235959
LOCATION:
X-MICROSOFT-LOCATIONDISPLAYNAME:
END:VEVENT
END:VCALENDAR
