BEGIN:VCALENDAR
PRODID:fdphamburg.de
VERSION:2.0
CALSCALE:GREGORIAN
BEGIN:VEVENT
UID:d7ae4c6a5a9463a22ca8efa366cfb6dd
DTSTAMP:20260420T132311Z
SUMMARY:Olympia in Hamburg
DTSTART:20260507T170000Z
DTEND;TZID=Europe/Berlin:20260507T235959
LOCATION:Olympiasaal\, Haus des Sports\, Schäferkampsallee 1\, 20357 Hambu
 rg\, Deutschland
X-MICROSOFT-LOCATIONDISPLAYNAME:Olympiasaal\, Haus des Sports\, Schäferkam
 psallee 1\, 20357 Hamburg\, Deutschland
X-MICROSOFT-LOCATIONSTREET:Schäferkampsallee 1
X-MICROSOFT-LOCATIONPOSTALCODE:20357
X-MICROSOFT-LOCATIONCITY:Hamburg
X-MICROSOFT-LOCATIONCOUNTRY:Deutschland
END:VEVENT
END:VCALENDAR
