BEGIN:VCALENDAR
PRODID:fdphamburg.de
VERSION:2.0
CALSCALE:GREGORIAN
BEGIN:VEVENT
UID:89fe25c47d2f96241305d6c203d4731a
DTSTAMP:20260423T104058Z
SUMMARY:18. RainbowFlash zum IDAHOBIT
DTSTART:20260517T160000Z
DTEND;TZID=Europe/Berlin:20260517T235959
LOCATION:
X-MICROSOFT-LOCATIONDISPLAYNAME:
END:VEVENT
END:VCALENDAR
