BEGIN:VCALENDAR
PRODID:fdphamburg.de
VERSION:2.0
CALSCALE:GREGORIAN
BEGIN:VEVENT
UID:83c43162b2db7c957f45a95f90a41edf
DTSTAMP:20260423T124723Z
SUMMARY:LFA Europa\, Internationale Politik
DTSTART:20260610T163000Z
DTEND;TZID=Europe/Berlin:20260610T235959
LOCATION:
X-MICROSOFT-LOCATIONDISPLAYNAME:
END:VEVENT
END:VCALENDAR
