BEGIN:VCALENDAR
PRODID:fdphamburg.de
VERSION:2.0
CALSCALE:GREGORIAN
BEGIN:VEVENT
UID:ff7d373c5dee530087198acfca8ad348
DTSTAMP:20260423T082109Z
SUMMARY:LFA Bildung\, Wissenschaft\, Forschung
DTSTART:20260928T170000Z
DTEND;TZID=Europe/Berlin:20260928T235959
LOCATION:Landesgeschäftsstelle \, Hopfenmarkt 31\, 20457 Hamburg\, Deutsch
 land
X-MICROSOFT-LOCATIONDISPLAYNAME:Landesgeschäftsstelle \, Hopfenmarkt 31\, 
 20457 Hamburg\, Deutschland
X-MICROSOFT-LOCATIONSTREET:Hopfenmarkt 31
X-MICROSOFT-LOCATIONPOSTALCODE:20457
X-MICROSOFT-LOCATIONCITY:Hamburg
X-MICROSOFT-LOCATIONCOUNTRY:Deutschland
END:VEVENT
END:VCALENDAR
