BEGIN:VCALENDAR
PRODID:fdphamburg.de
VERSION:2.0
CALSCALE:GREGORIAN
BEGIN:VEVENT
UID:86bfd92bcc6c6e73577e1397f8248707
DTSTAMP:20260423T082509Z
SUMMARY:LFA Bildung\, Wissenschaft\, Forschung
DTSTART:20261026T180000Z
DTEND;TZID=Europe/Berlin:20261026T235959
LOCATION:Landesgeschäftsstelle \, Hopfenmarkt 31\, 20457 Hamburg\, Deutsch
 land
X-MICROSOFT-LOCATIONDISPLAYNAME:Landesgeschäftsstelle \, Hopfenmarkt 31\, 
 20457 Hamburg\, Deutschland
X-MICROSOFT-LOCATIONSTREET:Hopfenmarkt 31
X-MICROSOFT-LOCATIONPOSTALCODE:20457
X-MICROSOFT-LOCATIONCITY:Hamburg
X-MICROSOFT-LOCATIONCOUNTRY:Deutschland
END:VEVENT
END:VCALENDAR
