BEGIN:VCALENDAR
PRODID:fdphamburg.de
VERSION:2.0
CALSCALE:GREGORIAN
BEGIN:VEVENT
UID:f9772cfd95c327333c0732fbced0da14
DTSTAMP:20260423T092643Z
SUMMARY:Bundesparteitag
DTSTART:20260529T220000Z
DTEND:20260530T220000Z
LOCATION:
X-MICROSOFT-LOCATIONDISPLAYNAME:
END:VEVENT
END:VCALENDAR
