BEGIN:VCALENDAR
PRODID:fdphamburg.de
VERSION:2.0
CALSCALE:GREGORIAN
BEGIN:VEVENT
UID:3911b535376737497e84aeb949882bb6
DTSTAMP:20260423T082411Z
SUMMARY:LFA Innen und Recht\, Verbraucherschutz 
DTSTART:20261202T180000Z
DTEND;TZID=Europe/Berlin:20261202T235959
LOCATION:Landesgeschäftsstelle der FDP Hamburg\, Hopfenmarkt 31\, 20457 Ha
 mburg\, Deutschland
X-MICROSOFT-LOCATIONDISPLAYNAME:Landesgeschäftsstelle der FDP Hamburg\, Ho
 pfenmarkt 31\, 20457 Hamburg\, Deutschland
X-MICROSOFT-LOCATIONSTREET:Hopfenmarkt 31
X-MICROSOFT-LOCATIONPOSTALCODE:20457
X-MICROSOFT-LOCATIONCITY:Hamburg
X-MICROSOFT-LOCATIONCOUNTRY:Deutschland
END:VEVENT
END:VCALENDAR
