BEGIN:VCALENDAR
PRODID:fdphamburg.de
VERSION:2.0
CALSCALE:GREGORIAN
BEGIN:VEVENT
UID:02fff62fc85476129c128f9d44706f1c
DTSTAMP:20260423T082940Z
SUMMARY:LFA Innen und Recht\, Verbraucherschutz 
DTSTART:20260506T170000Z
DTEND;TZID=Europe/Berlin:20260506T235959
LOCATION:Landesgeschäftsstelle der FDP Hamburg\, Hopfenmarkt 31\, 20457 Ha
 mburg\, Deutschland
X-MICROSOFT-LOCATIONDISPLAYNAME:Landesgeschäftsstelle der FDP Hamburg\, Ho
 pfenmarkt 31\, 20457 Hamburg\, Deutschland
X-MICROSOFT-LOCATIONSTREET:Hopfenmarkt 31
X-MICROSOFT-LOCATIONPOSTALCODE:20457
X-MICROSOFT-LOCATIONCITY:Hamburg
X-MICROSOFT-LOCATIONCOUNTRY:Deutschland
END:VEVENT
END:VCALENDAR
