BEGIN:VCALENDAR
PRODID:fdphamburg.de
VERSION:2.0
CALSCALE:GREGORIAN
BEGIN:VEVENT
UID:7a2a681e1c1e4a5802261ae18a75a13c
DTSTAMP:20260423T081047Z
SUMMARY:LFA Wirtschaft
DTSTART:20260521T170000Z
DTEND:20260521T190000Z
LOCATION:Landesgeschäftsstelle der FDP Hamburg\, Hopfenmarkt 31\, 20457 Ha
 mburg\, Deutschland
X-MICROSOFT-LOCATIONDISPLAYNAME:Landesgeschäftsstelle der FDP Hamburg\, Ho
 pfenmarkt 31\, 20457 Hamburg\, Deutschland
X-MICROSOFT-LOCATIONSTREET:Hopfenmarkt 31
X-MICROSOFT-LOCATIONPOSTALCODE:20457
X-MICROSOFT-LOCATIONCITY:Hamburg
X-MICROSOFT-LOCATIONCOUNTRY:Deutschland
END:VEVENT
END:VCALENDAR
